BEGIN:VCALENDAR
VERSION:2.0
PRODID:-//Hawkenbury Village - ECPv6.15.20//NONSGML v1.0//EN
CALSCALE:GREGORIAN
METHOD:PUBLISH
X-ORIGINAL-URL:https://www.hawkenburyvillage.co.uk
X-WR-CALDESC:Events for Hawkenbury Village
REFRESH-INTERVAL;VALUE=DURATION:PT1H
X-Robots-Tag:noindex
X-PUBLISHED-TTL:PT1H
BEGIN:VTIMEZONE
TZID:Europe/London
BEGIN:DAYLIGHT
TZOFFSETFROM:+0000
TZOFFSETTO:+0100
TZNAME:BST
DTSTART:20140330T010000
END:DAYLIGHT
BEGIN:STANDARD
TZOFFSETFROM:+0100
TZOFFSETTO:+0000
TZNAME:GMT
DTSTART:20141026T010000
END:STANDARD
BEGIN:DAYLIGHT
TZOFFSETFROM:+0000
TZOFFSETTO:+0100
TZNAME:BST
DTSTART:20150329T010000
END:DAYLIGHT
BEGIN:STANDARD
TZOFFSETFROM:+0100
TZOFFSETTO:+0000
TZNAME:GMT
DTSTART:20151025T010000
END:STANDARD
BEGIN:DAYLIGHT
TZOFFSETFROM:+0000
TZOFFSETTO:+0100
TZNAME:BST
DTSTART:20160327T010000
END:DAYLIGHT
BEGIN:STANDARD
TZOFFSETFROM:+0100
TZOFFSETTO:+0000
TZNAME:GMT
DTSTART:20161030T010000
END:STANDARD
BEGIN:DAYLIGHT
TZOFFSETFROM:+0000
TZOFFSETTO:+0100
TZNAME:BST
DTSTART:20170326T010000
END:DAYLIGHT
BEGIN:STANDARD
TZOFFSETFROM:+0100
TZOFFSETTO:+0000
TZNAME:GMT
DTSTART:20171029T010000
END:STANDARD
BEGIN:DAYLIGHT
TZOFFSETFROM:+0000
TZOFFSETTO:+0100
TZNAME:BST
DTSTART:20180325T010000
END:DAYLIGHT
BEGIN:STANDARD
TZOFFSETFROM:+0100
TZOFFSETTO:+0000
TZNAME:GMT
DTSTART:20181028T010000
END:STANDARD
END:VTIMEZONE
BEGIN:VEVENT
DTSTART;VALUE=DATE:20170503
DTEND;VALUE=DATE:20170609
DTSTAMP:20260420T133457
CREATED:20170526T093623Z
LAST-MODIFIED:20170526T094521Z
UID:504-1493769600-1496966399@www.hawkenburyvillage.co.uk
SUMMARY:Planning Application - 17/01221/FULL
DESCRIPTION:We made you aware of the planning application for the road through the High Woods recently. \nThe planning application is currently open for comment and you need to comment before 8 June 2017. \nhttp://twbcpa.midkent.gov.uk/online-applications/applicationDetails.do?activeTab=summary&keyVal=OO36C0TYIMK00
URL:https://www.hawkenburyvillage.co.uk/event/comments-close-1701221full/
END:VEVENT
BEGIN:VEVENT
DTSTART;VALUE=DATE:20170502
DTEND;VALUE=DATE:20170613
DTSTAMP:20260420T133457
CREATED:20170526T094659Z
LAST-MODIFIED:20170526T094659Z
UID:507-1493683200-1497311999@www.hawkenburyvillage.co.uk
SUMMARY:Comments on Tunbridge Wells Local Plan
DESCRIPTION:Tunbridge Wells Borough Council has commenced work on preparing a new Local Plan that will guide future development in the borough up to 2033. The new Local Plan will replace the existing Local Plan 2006\, Core Strategy and associated Development Plan Documents (DPDs) \nView all the information here: http://www.tunbridgewells.gov.uk/residents/planning/planning-policy/new-local-plan
URL:https://www.hawkenburyvillage.co.uk/event/comments-on-tunbridge-wells-local-plan/
END:VEVENT
BEGIN:VEVENT
DTSTART;TZID=Europe/London:20160723T100000
DTEND;TZID=Europe/London:20160723T130000
DTSTAMP:20260420T133457
CREATED:20160712T134117Z
LAST-MODIFIED:20160715T103207Z
UID:348-1469268000-1469278800@www.hawkenburyvillage.co.uk
SUMMARY:Hawkenbury Farm proposed planning application consultation
DESCRIPTION:Berkeley Homes will be bringing forward a planning application on the land at Hawkenbury Farm in Hawkenbury\, Tunbridge Wells with a view to redeveloping the site for a high quality\, residential-led scheme\, incorporating the relocation and expansion of St Peter’s Church of England Primary School. \nThere is a public consultation in the large hall on Saturday\, 23 July 2016 from 10am. \nMembers of Berkeley and the project team will be in attendance at the consultation to answer any questions you may have. Please pass on this invite to friends and relatives in the area.
URL:https://www.hawkenburyvillage.co.uk/event/hawkenbury-farm-proposed-planning-application-consulation/
LOCATION:United Reformed Church\, 23 Forest Road\, Hawkenbury\, Kent\, TN2 5AL\, United Kingdom
END:VEVENT
BEGIN:VEVENT
DTSTART;TZID=Europe/London:20160721T160000
DTEND;TZID=Europe/London:20160721T200000
DTSTAMP:20260420T133457
CREATED:20160712T133923Z
LAST-MODIFIED:20160715T103221Z
UID:346-1469116800-1469131200@www.hawkenburyvillage.co.uk
SUMMARY:Hawkenbury Farm proposed planning application consultation
DESCRIPTION:Berkeley Homes will be bringing forward a planning application on the land at Hawkenbury Farm in Hawkenbury\, Tunbridge Wells with a view to redeveloping the site for a high quality\, residential-led scheme\, incorporating the relocation and expansion of St Peter’s Church of England Primary School. \nThere is a public consultation in the large hall on Thursday\, 21 July 2016 from 4pm. \nMembers of Berkeley and the project team will be in attendance at the consultation to answer any questions you may have. Please pass on this invite to friends and relatives in the area.
URL:https://www.hawkenburyvillage.co.uk/event/hawkenbury-farm-planning-consultation/
LOCATION:United Reformed Church\, 23 Forest Road\, Hawkenbury\, Kent\, TN2 5AL\, United Kingdom
END:VEVENT
BEGIN:VEVENT
DTSTART;TZID=Europe/London:20160428T200000
DTEND;TZID=Europe/London:20160428T220000
DTSTAMP:20260420T133457
CREATED:20160406T122415Z
LAST-MODIFIED:20160406T122415Z
UID:303-1461873600-1461880800@www.hawkenburyvillage.co.uk
SUMMARY:Annual General Meeting
DESCRIPTION:The next Annual General Meeting of the Hawkenbury Village Association has been scheduled.
URL:https://www.hawkenburyvillage.co.uk/event/annual-general-meeting-2/
LOCATION:SHERBORNE CLOSE COMMUNITY CENTRE\, Sherborne Close\, Tunbridge Wells\, TN2 5AS\, United Kingdom
END:VEVENT
BEGIN:VEVENT
DTSTART;TZID=Europe/London:20150917T100000
DTEND;TZID=Europe/London:20150917T230000
DTSTAMP:20260420T133457
CREATED:20150913T181249Z
LAST-MODIFIED:20150913T181249Z
UID:260-1442484000-1442530800@www.hawkenburyvillage.co.uk
SUMMARY:TW Borough Cabinet
DESCRIPTION:The Chairman and Treasurer of the Village association attended a meeting at the Council Offices this morning with David Candlin\, the Head of Economic Development at Tunbridge Wells Borough Council. \nMr Candlin advised us that they had been in negotiation with Berkeley Homes and had reached a conditional agreement for the sale of the Holly Farm Site for housing and a new two form entry primary school. The agreement is due to be considered by the Finance and Governance Cabinet Advisory Board 0n 25th August at 18:30 and the Cabinet on 17th September at 10:00. Both meetings are open to the public and we encourage you to attend. You can find more information on how to attend on the Tunbridge Wells Council website. \nPlease find attached a PDF the committee received from the council relating to the sale.  Holly Farm (PDF – 219 kB). \nIn order to view PDF documents\, you will need to have the free Adobe Acrobat Reader software installed on your computer.Download Adobe Reader.
URL:https://www.hawkenburyvillage.co.uk/event/tw-borough-cabinet/
LOCATION:Tunbridge Wells Town Hall\, United Kingdom
END:VEVENT
BEGIN:VEVENT
DTSTART;TZID=Europe/London:20150825T183000
DTEND;TZID=Europe/London:20150825T203000
DTSTAMP:20260420T133457
CREATED:20150913T181141Z
LAST-MODIFIED:20150913T181141Z
UID:258-1440527400-1440534600@www.hawkenburyvillage.co.uk
SUMMARY:Finance and Governance Cabinet Advisory Board
DESCRIPTION:The Chairman and Treasurer of the Village association attended a meeting at the Council Offices this morning with David Candlin\, the Head of Economic Development at Tunbridge Wells Borough Council. \nMr Candlin advised us that they had been in negotiation with Berkeley Homes and had reached a conditional agreement for the sale of the Holly Farm Site for housing and a new two form entry primary school. The agreement is due to be considered by the Finance and Governance Cabinet Advisory Board 0n 25th August at 18:30 and the Cabinet on 17th September at 10:00. Both meetings are open to the public and we encourage you to attend. You can find more information on how to attend on the Tunbridge Wells Council website. \nPlease find attached a PDF the committee received from the council relating to the sale.  Holly Farm (PDF – 219 kB). \nIn order to view PDF documents\, you will need to have the free Adobe Acrobat Reader software installed on your computer.Download Adobe Reader.
URL:https://www.hawkenburyvillage.co.uk/event/finance-and-governance-cabinet-advisory-board/
LOCATION:Tunbridge Wells Town Hall\, United Kingdom
END:VEVENT
BEGIN:VEVENT
DTSTART;TZID=Europe/London:20150807T110000
DTEND;TZID=Europe/London:20150807T130000
DTSTAMP:20260420T133457
CREATED:20150913T181410Z
LAST-MODIFIED:20150913T181410Z
UID:261-1438945200-1438952400@www.hawkenburyvillage.co.uk
SUMMARY:Recreation Ground Meeting
DESCRIPTION:I am advised by Graeme Gibson\, Chair of the HVA\, that TWBC have a (small) amount of money that they may allocate to spend at the Rec. \nThere has been talk of replacing the “new” roundabout\, but I have already posted a comment that this should be fixed/replaced by the company who originally installed it\, given it has never worked. \nIf you would like a say in how any available funds might be applied\, please join members of the HVA and TWBC in the vicinity of the playground at the Rec at 11am this Friday\, 7 August.
URL:https://www.hawkenburyvillage.co.uk/event/recreation-ground-meeting/
LOCATION:Childrens Play area
END:VEVENT
BEGIN:VEVENT
DTSTART;TZID=Europe/London:20150528T200000
DTEND;TZID=Europe/London:20150528T220000
DTSTAMP:20260420T133457
CREATED:20150913T180950Z
LAST-MODIFIED:20150913T180950Z
UID:255-1432843200-1432850400@www.hawkenburyvillage.co.uk
SUMMARY:Annual General Meeting
DESCRIPTION:The Annual General Meeting of the Hawkenbury Village Association will be held: \nON:         8pm on THURSDAY 28 MAY \nAT:          SHERBORNE CLOSE COMMUNITY CENTRE \nVOTE:    for your Committee. \nEAT:       Refreshments will be available. \nTELL:     The Committee will be asking for community members to speak up and tell us what we can do for you. What would you like to see in Hawkenbury? What can be done to improve our community? All voices will be heard and suggestions gratefully received. \nHELP:     If you would like to stand on the Committee or help out in any way\, please come along.
URL:https://www.hawkenburyvillage.co.uk/event/annual-general-meeting/
LOCATION:SHERBORNE CLOSE COMMUNITY CENTRE\, Sherborne Close\, Tunbridge Wells\, TN2 5AS\, United Kingdom
END:VEVENT
END:VCALENDAR